BEGIN:VCALENDAR
VERSION:2.0
PRODID:-//Uwe Eschner - ECPv6.15.20//NONSGML v1.0//EN
CALSCALE:GREGORIAN
METHOD:PUBLISH
X-WR-CALNAME:Uwe Eschner
X-ORIGINAL-URL:https://uwe-eschner.de
X-WR-CALDESC:Veranstaltungen für Uwe Eschner
REFRESH-INTERVAL;VALUE=DURATION:PT1H
X-Robots-Tag:noindex
X-PUBLISHED-TTL:PT1H
BEGIN:VTIMEZONE
TZID:Europe/Berlin
BEGIN:DAYLIGHT
TZOFFSETFROM:+0100
TZOFFSETTO:+0200
TZNAME:CEST
DTSTART:20180325T010000
END:DAYLIGHT
BEGIN:STANDARD
TZOFFSETFROM:+0200
TZOFFSETTO:+0100
TZNAME:CET
DTSTART:20181028T010000
END:STANDARD
BEGIN:DAYLIGHT
TZOFFSETFROM:+0100
TZOFFSETTO:+0200
TZNAME:CEST
DTSTART:20190331T010000
END:DAYLIGHT
BEGIN:STANDARD
TZOFFSETFROM:+0200
TZOFFSETTO:+0100
TZNAME:CET
DTSTART:20191027T010000
END:STANDARD
BEGIN:DAYLIGHT
TZOFFSETFROM:+0100
TZOFFSETTO:+0200
TZNAME:CEST
DTSTART:20200329T010000
END:DAYLIGHT
BEGIN:STANDARD
TZOFFSETFROM:+0200
TZOFFSETTO:+0100
TZNAME:CET
DTSTART:20201025T010000
END:STANDARD
END:VTIMEZONE
BEGIN:VEVENT
DTSTART;TZID=Europe/Berlin:20191217T190000
DTEND;TZID=Europe/Berlin:20191217T200000
DTSTAMP:20260420T141739
CREATED:20191110T111518Z
LAST-MODIFIED:20191110T113618Z
UID:579-1576609200-1576612800@uwe-eschner.de
SUMMARY:Das MeldorferGitarrenEnsemble kommt nach St. Michel
DESCRIPTION:und spielt einiges Weihnachtliches\, aber auch ein paar poppige Nummern\, Beatles und Kompositionen von Fabian Payr. \nWer Gitarrenmusik mag und Chor oder Orchester\, Mehrstimmigkeit und interessante Arrangements ist beim MGE genau richtig: \n10 Gitarren nutzen die Klangfarben des Instruments bis aufs Äußerste – Bass- und Soprangitarren inclusive. \nam 17. Dezember um 19.00 Uhr in „Uns Huus“\, Op’n Dunn\, Markt St. Michaelisdonn. \nDer Eintritt ist frei\, Spenden werden nicht abgelehnt.
URL:https://uwe-eschner.de/event/das-meldorfergitarrenensemble-kommt-nach-st-michel/
LOCATION:Uns Huus\, St. Michaelisdonn
END:VEVENT
BEGIN:VEVENT
DTSTART;TZID=Europe/Berlin:20191215T190000
DTEND;TZID=Europe/Berlin:20191215T200000
DTSTAMP:20260420T141739
CREATED:20191110T110006Z
LAST-MODIFIED:20191110T193923Z
UID:576-1576436400-1576440000@uwe-eschner.de
SUMMARY:DKC zur Weihnacht
DESCRIPTION:Auch der Kneipenchor lässt sich auf Saisonales ein und singt am 15.12. in der Tellingstedter Kirche. \nDa ja die Borsteltowns unsere Homebase sind\, lassen wir es uns nicht nehmen\, den Weihnachtsmarkt der Gemeinde mitzugestalten: Gegen Ende des Nachmittags (ca 19.00 Uhr) begleiten wir die abschließende Andacht und natürlich werden wir es nicht bei den üblichen still-nächtlichen Verdächtigen belassen\, sondern jinglen und rocken und swingen!!!
URL:https://uwe-eschner.de/event/dkc-zur-weihnacht/
END:VEVENT
BEGIN:VEVENT
DTSTART;TZID=Europe/Berlin:20191130T180000
DTEND;TZID=Europe/Berlin:20191130T200000
DTSTAMP:20260420T141739
CREATED:20191110T104833Z
LAST-MODIFIED:20191110T193229Z
UID:570-1575136800-1575144000@uwe-eschner.de
SUMMARY:DKC On Air
DESCRIPTION:Der Kneipenchor ist eingeladen\, die Verleihung der „Hörmöwe“ musikalisch zu begleiten. Das ist ein Rundfunkpreis\, den der offene Kanal SH alljährlich auslobt und in einer eigenen Sendung vorstellt. Dieses Jahr live von der Heider Museumsinsel und wir hoffen\, dass wir das mit der Mikrofonierung hinbekommen damit nicht nur die Gäste vor Ort sondern die ganze Westküste uns hören kann! \nIhr empfangt den OK Westküste auf den UKW-Frequenzen 105\,2 und/oder 97\,6 in Heide\, weiter nördlich (aus Husum) 98\,8.
URL:https://uwe-eschner.de/event/dkc-on-air/
END:VEVENT
BEGIN:VEVENT
DTSTART;TZID=Europe/Berlin:20190929T170000
DTEND;TZID=Europe/Berlin:20190929T183000
DTSTAMP:20260420T141739
CREATED:20190902T142649Z
LAST-MODIFIED:20190903T190145Z
UID:537-1569776400-1569781800@uwe-eschner.de
SUMMARY:Rot- & Zwielichtiges\, Halunkiges\, Spelunkiges\,...
DESCRIPTION:…von christlicher Seefahrt und unchristlichen Geschehnissen an Land – \ndavon singt das Chörchen in seinem lange geprobten und endlich fertigen Programm. \nDa fahren wir kurz durch die Karibik und begegnen Herrn B. auf dem BananenBoot\, kreuzen Charles Trenet’s Weg durch die haushohen Wogen\, sehen vor Capri die Fischer ihre Netze auswerfen\, landen kurz in Dublin\, wo wir nach dem Genuss eines Muschelmahls auf den Fährmann nach Carrickfergus warten\, denn dort wartet die einzige Liebste (oder doch alle Sorten Girls\, Girls\, Girls?)\, legen irgendwann beim alten Fritz (Grasshoff) in Dover\, Dullyport und Düsseldorf (!) an und später in Hamburg. Dort träumt Mimi nach zu intensiver Lektüre vom Gärtner (oder wem nochmal?)\, während wir langsam nach der Freiheit rauf bummeln\, vorbei an roten Laternen und dunklen Gestalten\, denn die Nacht ist ja nicht allein zum Schlafen da… \nACapella vom Leckersten: Eine gute Hälfte der Sätze stammt aus Uwe Eschners Feder\, poppig und madrigalesk\, mal rustikal\, mal melancholisch\, mal morbid. Auch schön\, aber auf jeden Fall schön BUNT – halt das CHÖRCHEN!
URL:https://uwe-eschner.de/event/rot-zwielichtiges-halunkiges-spelunkiges/
LOCATION:Ditmarsia\, Meldorf
END:VEVENT
BEGIN:VEVENT
DTSTART;TZID=Europe/Berlin:20190906T180000
DTEND;TZID=Europe/Berlin:20190906T233000
DTSTAMP:20260420T141739
CREATED:20190711T133748Z
LAST-MODIFIED:20190711T203641Z
UID:501-1567792800-1567812600@uwe-eschner.de
SUMMARY:DKC ist wieder HINUNDWECH
DESCRIPTION:Was den Metalheads in Wacken die Firefighters sind\, ist der DKC dem HinundWech-Festival: \nA-Capella eröffnet die Neuauflage des Heider September-Events!
URL:https://uwe-eschner.de/event/hinundwech/
LOCATION:Westcoast\, Hamburger Straße 164\, Heide\, 25746
CATEGORIES:Uwe Eschner
END:VEVENT
BEGIN:VEVENT
DTSTART;TZID=Europe/Berlin:20190824T190000
DTEND;TZID=Europe/Berlin:20190824T200000
DTSTAMP:20260420T141739
CREATED:20190711T134646Z
LAST-MODIFIED:20190711T135717Z
UID:508-1566673200-1566676800@uwe-eschner.de
SUMMARY:Kunstgriff in Großenrade
DESCRIPTION:In der Kulturdiele von Ute & Hans Struck in Großenrade gibt es viel zu sehen und zur Eröffnung darf ich ein bisschen Gitarre spielen.
URL:https://uwe-eschner.de/event/kunstgriff-in-grossenrade/
LOCATION:Großenrade\, Hochdonner Straße 3\, Großenrade\, 25712
END:VEVENT
BEGIN:VEVENT
DTSTART;TZID=Europe/Berlin:20190619T180000
DTEND;TZID=Europe/Berlin:20190619T200000
DTSTAMP:20260420T141739
CREATED:20190711T140930Z
LAST-MODIFIED:20190711T141121Z
UID:518-1560967200-1560974400@uwe-eschner.de
SUMMARY:Ukulele beim Kulturbonsche
DESCRIPTION:Endlich ist es zu hören: das Solo-Programm auf der Uwe-lele! Arrangements von Popklassikern in überraschenden Zusammenstellungen\, auf vier Saiten reduziert und trotzdem alles dran – vor allem viel Augenzwinkern…
URL:https://uwe-eschner.de/event/ukulele-beim-kulturbonsche/
END:VEVENT
END:VCALENDAR